BEGIN:VCALENDAR
VERSION:2.0
PRODID:-//Hrádecký zpravodaj - ECPv6.15.14//NONSGML v1.0//EN
CALSCALE:GREGORIAN
METHOD:PUBLISH
X-WR-CALNAME:Hrádecký zpravodaj
X-ORIGINAL-URL:https://hradecky-zpravodaj.cz
X-WR-CALDESC:Akce na Hrádecký zpravodaj
REFRESH-INTERVAL;VALUE=DURATION:PT1H
X-Robots-Tag:noindex
X-PUBLISHED-TTL:PT1H
BEGIN:VTIMEZONE
TZID:Europe/Prague
BEGIN:DAYLIGHT
TZOFFSETFROM:+0100
TZOFFSETTO:+0200
TZNAME:CEST
DTSTART:20180325T010000
END:DAYLIGHT
BEGIN:STANDARD
TZOFFSETFROM:+0200
TZOFFSETTO:+0100
TZNAME:CET
DTSTART:20181028T010000
END:STANDARD
BEGIN:DAYLIGHT
TZOFFSETFROM:+0100
TZOFFSETTO:+0200
TZNAME:CEST
DTSTART:20190331T010000
END:DAYLIGHT
BEGIN:STANDARD
TZOFFSETFROM:+0200
TZOFFSETTO:+0100
TZNAME:CET
DTSTART:20191027T010000
END:STANDARD
BEGIN:DAYLIGHT
TZOFFSETFROM:+0100
TZOFFSETTO:+0200
TZNAME:CEST
DTSTART:20200329T010000
END:DAYLIGHT
BEGIN:STANDARD
TZOFFSETFROM:+0200
TZOFFSETTO:+0100
TZNAME:CET
DTSTART:20201025T010000
END:STANDARD
END:VTIMEZONE
BEGIN:VEVENT
DTSTART;TZID=Europe/Prague:20190717T213000
DTEND;TZID=Europe/Prague:20190717T230000
DTSTAMP:20260423T120946
CREATED:20190516T163440Z
LAST-MODIFIED:20190713T085209Z
UID:7063-1563399000-1563404400@hradecky-zpravodaj.cz
SUMMARY:Toman
DESCRIPTION:
URL:https://hradecky-zpravodaj.cz/udalost/toman/
LOCATION:Letní kino\, K Divadlu 176\, Hrádek\, Plzeňský\, 33842\, Česká republika
END:VEVENT
BEGIN:VEVENT
DTSTART;TZID=Europe/Prague:20190713T213000
DTEND;TZID=Europe/Prague:20190713T230000
DTSTAMP:20260423T120946
CREATED:20190516T163357Z
LAST-MODIFIED:20190713T085203Z
UID:7061-1563053400-1563058800@hradecky-zpravodaj.cz
SUMMARY:Ten\, kdo tě miloval
DESCRIPTION:
URL:https://hradecky-zpravodaj.cz/udalost/ten-kdo-te-miloval/
LOCATION:Letní kino\, K Divadlu 176\, Hrádek\, Plzeňský\, 33842\, Česká republika
END:VEVENT
BEGIN:VEVENT
DTSTART;TZID=Europe/Prague:20190712T213000
DTEND;TZID=Europe/Prague:20190712T230000
DTSTAMP:20260423T120946
CREATED:20190516T163310Z
LAST-MODIFIED:20190713T085001Z
UID:7059-1562967000-1562972400@hradecky-zpravodaj.cz
SUMMARY:Louskáček
DESCRIPTION:
URL:https://hradecky-zpravodaj.cz/udalost/louskacek/
LOCATION:Letní kino\, K Divadlu 176\, Hrádek\, Plzeňský\, 33842\, Česká republika
END:VEVENT
BEGIN:VEVENT
DTSTART;TZID=Europe/Prague:20190710T213000
DTEND;TZID=Europe/Prague:20190710T230000
DTSTAMP:20260423T120946
CREATED:20190516T163211Z
LAST-MODIFIED:20190713T084957Z
UID:7057-1562794200-1562799600@hradecky-zpravodaj.cz
SUMMARY:Miss Hanoi
DESCRIPTION:
URL:https://hradecky-zpravodaj.cz/udalost/miss-hanoi/
LOCATION:Letní kino\, K Divadlu 176\, Hrádek\, Plzeňský\, 33842\, Česká republika
END:VEVENT
BEGIN:VEVENT
DTSTART;TZID=Europe/Prague:20190706T080000
DTEND;TZID=Europe/Prague:20190706T233000
DTSTAMP:20260423T120946
CREATED:20190516T163129Z
LAST-MODIFIED:20190713T085333Z
UID:7055-1562400000-1562455800@hradecky-zpravodaj.cz
SUMMARY:Muzika
DESCRIPTION:
URL:https://hradecky-zpravodaj.cz/udalost/muzika/
LOCATION:Letní kino\, K Divadlu 176\, Hrádek\, Plzeňský\, 33842\, Česká republika
END:VEVENT
BEGIN:VEVENT
DTSTART;TZID=Europe/Prague:20190703T213000
DTEND;TZID=Europe/Prague:20190703T230000
DTSTAMP:20260423T120946
CREATED:20190516T163032Z
LAST-MODIFIED:20190713T084944Z
UID:7053-1562189400-1562194800@hradecky-zpravodaj.cz
SUMMARY:Ant-Man a Wasp
DESCRIPTION:
URL:https://hradecky-zpravodaj.cz/udalost/ant-man-a-wasp/
LOCATION:Letní kino\, K Divadlu 176\, Hrádek\, Plzeňský\, 33842\, Česká republika
END:VEVENT
BEGIN:VEVENT
DTSTART;TZID=Europe/Prague:20190630T150000
DTEND;TZID=Europe/Prague:20190630T170000
DTSTAMP:20260423T120946
CREATED:20190516T164120Z
LAST-MODIFIED:20190713T085350Z
UID:7077-1561906800-1561914000@hradecky-zpravodaj.cz
SUMMARY:Hrádecký band
DESCRIPTION:Koncert bude pouze za příznivého počasí
URL:https://hradecky-zpravodaj.cz/udalost/hradecky-band/
LOCATION:Letní kino\, K Divadlu 176\, Hrádek\, Plzeňský\, 33842\, Česká republika
END:VEVENT
BEGIN:VEVENT
DTSTART;TZID=Europe/Prague:20190629T213000
DTEND;TZID=Europe/Prague:20190629T230000
DTSTAMP:20260423T120946
CREATED:20190516T162927Z
LAST-MODIFIED:20190713T084937Z
UID:7050-1561843800-1561849200@hradecky-zpravodaj.cz
SUMMARY:Čertí brko (do 15 let zdarma)
DESCRIPTION:Pokud ti ještě nebylo 15\, tak máš kino zdarma.
URL:https://hradecky-zpravodaj.cz/udalost/certi-brko/
LOCATION:Letní kino\, K Divadlu 176\, Hrádek\, Plzeňský\, 33842\, Česká republika
END:VEVENT
END:VCALENDAR