BEGIN:VCALENDAR
VERSION:2.0
PRODID:-//Hrádecký zpravodaj - ECPv6.15.14//NONSGML v1.0//EN
CALSCALE:GREGORIAN
METHOD:PUBLISH
X-ORIGINAL-URL:https://hradecky-zpravodaj.cz
X-WR-CALDESC:Akce na Hrádecký zpravodaj
REFRESH-INTERVAL;VALUE=DURATION:PT1H
X-Robots-Tag:noindex
X-PUBLISHED-TTL:PT1H
BEGIN:VTIMEZONE
TZID:Europe/Prague
BEGIN:DAYLIGHT
TZOFFSETFROM:+0100
TZOFFSETTO:+0200
TZNAME:CEST
DTSTART:20180325T010000
END:DAYLIGHT
BEGIN:STANDARD
TZOFFSETFROM:+0200
TZOFFSETTO:+0100
TZNAME:CET
DTSTART:20181028T010000
END:STANDARD
BEGIN:DAYLIGHT
TZOFFSETFROM:+0100
TZOFFSETTO:+0200
TZNAME:CEST
DTSTART:20190331T010000
END:DAYLIGHT
BEGIN:STANDARD
TZOFFSETFROM:+0200
TZOFFSETTO:+0100
TZNAME:CET
DTSTART:20191027T010000
END:STANDARD
BEGIN:DAYLIGHT
TZOFFSETFROM:+0100
TZOFFSETTO:+0200
TZNAME:CEST
DTSTART:20200329T010000
END:DAYLIGHT
BEGIN:STANDARD
TZOFFSETFROM:+0200
TZOFFSETTO:+0100
TZNAME:CET
DTSTART:20201025T010000
END:STANDARD
END:VTIMEZONE
BEGIN:VEVENT
DTSTART;TZID=Europe/Prague:20190721T170000
DTEND;TZID=Europe/Prague:20190721T220000
DTSTAMP:20260423T133522
CREATED:20190707T104738Z
LAST-MODIFIED:20190713T085308Z
UID:7412-1563728400-1563746400@hradecky-zpravodaj.cz
SUMMARY:Koncert: S.A.S.\, BUDULÍNEK\, NÍZKÁ ÚROVEŇ\, FIASKO
DESCRIPTION:S.A.S.: https://bandzone.cz/sas \nBUDULÍNEK: https://bandzone.cz/budulinek \nNÍZKÁ ÚROVEŇ: https://bandzone.cz/nizkaurovenrokycany \nFIASKO: https://bandzone.cz/fiasko \nVstup je volný. \nPlakát: http://www.mestohradek-ro.cz/assets/File.ashx?id_org=4730&id_dokumenty=62287
URL:https://hradecky-zpravodaj.cz/udalost/koncert-s-a-s-budulinek-nizka-uroven-fiasko/
LOCATION:Letní kino\, K Divadlu 176\, Hrádek\, Plzeňský\, 33842\, Česká republika
END:VEVENT
BEGIN:VEVENT
DTSTART;TZID=Europe/Prague:20190706T080000
DTEND;TZID=Europe/Prague:20190706T233000
DTSTAMP:20260423T133522
CREATED:20190516T163129Z
LAST-MODIFIED:20190713T085333Z
UID:7055-1562400000-1562455800@hradecky-zpravodaj.cz
SUMMARY:Muzika
DESCRIPTION:
URL:https://hradecky-zpravodaj.cz/udalost/muzika/
LOCATION:Letní kino\, K Divadlu 176\, Hrádek\, Plzeňský\, 33842\, Česká republika
END:VEVENT
BEGIN:VEVENT
DTSTART;TZID=Europe/Prague:20190630T150000
DTEND;TZID=Europe/Prague:20190630T170000
DTSTAMP:20260423T133522
CREATED:20190516T164120Z
LAST-MODIFIED:20190713T085350Z
UID:7077-1561906800-1561914000@hradecky-zpravodaj.cz
SUMMARY:Hrádecký band
DESCRIPTION:Koncert bude pouze za příznivého počasí
URL:https://hradecky-zpravodaj.cz/udalost/hradecky-band/
LOCATION:Letní kino\, K Divadlu 176\, Hrádek\, Plzeňský\, 33842\, Česká republika
END:VEVENT
END:VCALENDAR